BEGIN:VCALENDAR
VERSION:2.0
CALSCALE:GREGORIAN
METHOD:PUBLISH
PRODID://ZETA//212688
BEGIN:VEVENT
DTSTAMP:20260423T110943
VTIMEZONE:America/New_York
DTSTART:20260516T150000Z
DTEND:20260516T163000Z
UID:212688
SUMMARY:Pilates & Politics
LOCATION:
DESCRIPTION:Pilates & Politics\n\n05/16/26 11:00 AM EST\n - 05/16/26 12:30 PM EST\Description:\nWe welcome you to a youth-focused event titled Pilates and Politics, scheduled for May 16, 2026. The activity is designed to engage high school students and may be shared with a broader student audience beyond a specific program.\n\nThis youth-led experience blends a Pilates session with an interactive discussion exploring how policies and politics influence Washington, D.C.’s past, present, and future, particularly in the context of upcoming elections. The event is intended for young people ages 14–17, with registration available online.\n
X-ALT-DESC;FMTTYPE=text/html:Pilates & Politics<br /><br />05/16/26 11:00 AM EST - 05/16/26 12:30 PM EST<br />Description:<br /><p data-end="255" data-start="0"><span style="font-family:georgia,serif">We welcome you to&nbsp;a youth-focused event titled <em data-end="93" data-start="71">Pilates and Politics</em>, scheduled for May 16, 2026. The activity is designed to engage high school students and may be shared with a broader student audience beyond a specific program.</span></p>

<p data-end="568" data-is-last-node="" data-is-only-node="" data-start="257"><span style="font-family:georgia,serif">This youth-led experience blends a Pilates session with an interactive discussion exploring how policies and politics influence Washington, D.C.&rsquo;s past, present, and future, particularly in the context of upcoming elections. The event is intended for young people ages 14&ndash;17, with registration available online.</span></p>

PRIORITY:3
TRANSP:TRANSPARENT
BEGIN:VALARM
TRIGGER:-PT5M
ACTION:DISPLAY
DESCRIPTION:Reminder
END:VALARM
END:VEVENT
END:VCALENDAR
